BEGIN:VCALENDAR
VERSION:2.0
PRODID:-//Arts Denman - ECPv6.15.20//NONSGML v1.0//EN
CALSCALE:GREGORIAN
METHOD:PUBLISH
X-WR-CALNAME:Arts Denman
X-ORIGINAL-URL:https://artsdenman.org
X-WR-CALDESC:Events for Arts Denman
REFRESH-INTERVAL;VALUE=DURATION:PT1H
X-Robots-Tag:noindex
X-PUBLISHED-TTL:PT1H
BEGIN:VTIMEZONE
TZID:UTC
BEGIN:STANDARD
TZOFFSETFROM:+0000
TZOFFSETTO:+0000
TZNAME:UTC
DTSTART:20220101T000000
END:STANDARD
END:VTIMEZONE
BEGIN:VEVENT
DTSTART;TZID=UTC:20230304T200000
DTEND;TZID=UTC:20230304T233000
DTSTAMP:20260425T121446
CREATED:20230221T044901Z
LAST-MODIFIED:20230221T044901Z
UID:10000003-1677960000-1677972600@artsdenman.org
SUMMARY:Roots Roundup
DESCRIPTION:Roots Roundup plays a high energy hybrid of globe-spanning music\, mashing up the sounds of rock’n roll\, reggae\, ska\, afro-beat\, folk\, funk and pure old school punk rock.\n\nAll ages\nLicensed for the grownups\n\nhttps://concertsdenman.com/concerts/roots-roundup/
URL:https://artsdenman.org/event/roots-roundup/
LOCATION:Denman Island Community Hall\, 1196 Northwest Road\, Denman Island\, British Columbia\, V0R 1T0
ATTACH;FMTTYPE=image/jpeg:https://artsdenman.org/wp-content/uploads/2023/02/concertsdenman.jpg
END:VEVENT
BEGIN:VEVENT
DTSTART;TZID=UTC:20230325T190000
DTEND;TZID=UTC:20230325T220000
DTSTAMP:20260425T121446
CREATED:20230221T045325Z
LAST-MODIFIED:20230221T045325Z
UID:10000004-1679770800-1679781600@artsdenman.org
SUMMARY:John Reischman and the Jaybirds
DESCRIPTION:
URL:https://artsdenman.org/event/john-reischman-and-the-jaybirds/
CATEGORIES:Concerts Denman
ATTACH;FMTTYPE=image/jpeg:https://artsdenman.org/wp-content/uploads/2023/02/John-Reischman-The-Jaybirds-photo-copy.jpg
END:VEVENT
END:VCALENDAR